BEGIN:VCALENDAR
VERSION:2.0
PRODID:-//Sarah Rees Brennan - ECPv6.15.17.1//NONSGML v1.0//EN
CALSCALE:GREGORIAN
METHOD:PUBLISH
X-ORIGINAL-URL:https://www.sarahreesbrennan.com
X-WR-CALDESC:Events for Sarah Rees Brennan
REFRESH-INTERVAL;VALUE=DURATION:PT1H
X-Robots-Tag:noindex
X-PUBLISHED-TTL:PT1H
BEGIN:VTIMEZONE
TZID:Europe/Dublin
BEGIN:STANDARD
TZOFFSETFROM:+0000
TZOFFSETTO:+0100
TZNAME:IST
DTSTART:20170326T010000
END:STANDARD
BEGIN:DAYLIGHT
TZOFFSETFROM:+0100
TZOFFSETTO:+0000
TZNAME:GMT
DTSTART:20171029T010000
END:DAYLIGHT
BEGIN:STANDARD
TZOFFSETFROM:+0000
TZOFFSETTO:+0100
TZNAME:IST
DTSTART:20180325T010000
END:STANDARD
BEGIN:DAYLIGHT
TZOFFSETFROM:+0100
TZOFFSETTO:+0000
TZNAME:GMT
DTSTART:20181028T010000
END:DAYLIGHT
BEGIN:STANDARD
TZOFFSETFROM:+0000
TZOFFSETTO:+0100
TZNAME:IST
DTSTART:20190331T010000
END:STANDARD
BEGIN:DAYLIGHT
TZOFFSETFROM:+0100
TZOFFSETTO:+0000
TZNAME:GMT
DTSTART:20191027T010000
END:DAYLIGHT
BEGIN:STANDARD
TZOFFSETFROM:+0000
TZOFFSETTO:+0100
TZNAME:IST
DTSTART:20200329T010000
END:STANDARD
BEGIN:DAYLIGHT
TZOFFSETFROM:+0100
TZOFFSETTO:+0000
TZNAME:GMT
DTSTART:20201025T010000
END:DAYLIGHT
BEGIN:STANDARD
TZOFFSETFROM:+0000
TZOFFSETTO:+0100
TZNAME:IST
DTSTART:20210328T010000
END:STANDARD
BEGIN:DAYLIGHT
TZOFFSETFROM:+0100
TZOFFSETTO:+0000
TZNAME:GMT
DTSTART:20211031T010000
END:DAYLIGHT
BEGIN:STANDARD
TZOFFSETFROM:+0000
TZOFFSETTO:+0100
TZNAME:IST
DTSTART:20220327T010000
END:STANDARD
BEGIN:DAYLIGHT
TZOFFSETFROM:+0100
TZOFFSETTO:+0000
TZNAME:GMT
DTSTART:20221030T010000
END:DAYLIGHT
BEGIN:STANDARD
TZOFFSETFROM:+0000
TZOFFSETTO:+0100
TZNAME:IST
DTSTART:20230326T010000
END:STANDARD
BEGIN:DAYLIGHT
TZOFFSETFROM:+0100
TZOFFSETTO:+0000
TZNAME:GMT
DTSTART:20231029T010000
END:DAYLIGHT
BEGIN:STANDARD
TZOFFSETFROM:+0000
TZOFFSETTO:+0100
TZNAME:IST
DTSTART:20240331T010000
END:STANDARD
BEGIN:DAYLIGHT
TZOFFSETFROM:+0100
TZOFFSETTO:+0000
TZNAME:GMT
DTSTART:20241027T010000
END:DAYLIGHT
BEGIN:STANDARD
TZOFFSETFROM:+0000
TZOFFSETTO:+0100
TZNAME:IST
DTSTART:20250330T010000
END:STANDARD
BEGIN:DAYLIGHT
TZOFFSETFROM:+0100
TZOFFSETTO:+0000
TZNAME:GMT
DTSTART:20251026T010000
END:DAYLIGHT
BEGIN:STANDARD
TZOFFSETFROM:+0000
TZOFFSETTO:+0100
TZNAME:IST
DTSTART:20260329T010000
END:STANDARD
BEGIN:DAYLIGHT
TZOFFSETFROM:+0100
TZOFFSETTO:+0000
TZNAME:GMT
DTSTART:20261025T010000
END:DAYLIGHT
END:VTIMEZONE
BEGIN:VEVENT
DTSTART;TZID=Europe/Dublin:20250401T180000
DTEND;TZID=Europe/Dublin:20250401T193000
DTSTAMP:20260419T132214
CREATED:20250329T183929Z
LAST-MODIFIED:20250329T183929Z
UID:4983-1743530400-1743535800@www.sarahreesbrennan.com
SUMMARY:OXFORD BOOK FESTIVAL
DESCRIPTION:
URL:https://www.sarahreesbrennan.com/event/oxford-book-festival/
LOCATION:Trinity College\, Garden Room\, Levine Building\, United Kingdom
ATTACH;FMTTYPE=image/jpeg:https://www.sarahreesbrennan.com/wp-content/uploads/2022/09/srb_default.jpg
END:VEVENT
BEGIN:VEVENT
DTSTART;TZID=Europe/Dublin:20250309T153000
DTEND;TZID=Europe/Dublin:20250309T170000
DTSTAMP:20260419T132214
CREATED:20250329T184350Z
LAST-MODIFIED:20250329T184350Z
UID:4989-1741534200-1741539600@www.sarahreesbrennan.com
SUMMARY:JOINING SAMANTHA SHANNON IN CONVERSATION
DESCRIPTION:
URL:https://www.sarahreesbrennan.com/event/joining-samantha-shannon-in-conversation/
ATTACH;FMTTYPE=image/jpeg:https://www.sarahreesbrennan.com/wp-content/uploads/2022/09/srb_default.jpg
END:VEVENT
BEGIN:VEVENT
DTSTART;TZID=Europe/Dublin:20241109T200000
DTEND;TZID=Europe/Dublin:20241109T213000
DTSTAMP:20260419T132214
CREATED:20241011T165716Z
LAST-MODIFIED:20241011T165716Z
UID:4915-1731182400-1731187800@www.sarahreesbrennan.com
SUMMARY:DUBLIN BOOK FESTIVAL
DESCRIPTION:
URL:https://www.sarahreesbrennan.com/event/dublin-book-festival/
LOCATION:Bewleys cafe\, Grafton street\, Dublin\, Ireland
ATTACH;FMTTYPE=image/jpeg:https://www.sarahreesbrennan.com/wp-content/uploads/2022/09/srb_default.jpg
END:VEVENT
BEGIN:VEVENT
DTSTART;TZID=Europe/Dublin:20241030T190000
DTEND;TZID=Europe/Dublin:20241030T210000
DTSTAMP:20260419T132214
CREATED:20241011T164527Z
LAST-MODIFIED:20241011T164527Z
UID:4910-1730314800-1730322000@www.sarahreesbrennan.com
SUMMARY:JOINING SABAA TAHIR IN CONVERSATION
DESCRIPTION:
URL:https://www.sarahreesbrennan.com/event/joining-sabaa-tahir-in-conversation/
LOCATION:St James’s Church\, 197 Piccadilly\, London\, W1J 9LL\, United Kingdom
ATTACH;FMTTYPE=image/jpeg:https://www.sarahreesbrennan.com/wp-content/uploads/2022/09/srb_default.jpg
END:VEVENT
BEGIN:VEVENT
DTSTART;TZID=Europe/Dublin:20241029T190000
DTEND;TZID=Europe/Dublin:20241029T190000
DTSTAMP:20260419T132214
CREATED:20241024T214602Z
LAST-MODIFIED:20241024T214803Z
UID:4925-1730228400-1730228400@www.sarahreesbrennan.com
SUMMARY:JOINING VERONICA ROTH IN CONVERSATION
DESCRIPTION:Thrilled to talk about the haunting WHEN AMONG CROWS with Veronica Roth!
URL:https://www.sarahreesbrennan.com/event/joining-veronica-roth-in-conversation/
LOCATION:Waterstones Trafalgar Square\, trafalgar square\, London\, United Kingdom
ATTACH;FMTTYPE=image/jpeg:https://www.sarahreesbrennan.com/wp-content/uploads/2022/09/srb_default.jpg
END:VEVENT
BEGIN:VEVENT
DTSTART;TZID=Europe/Dublin:20241025T130000
DTEND;TZID=Europe/Dublin:20241025T140000
DTSTAMP:20260419T132214
CREATED:20241011T163829Z
LAST-MODIFIED:20241011T163829Z
UID:4904-1729861200-1729864800@www.sarahreesbrennan.com
SUMMARY:LONDON COMIC CON
DESCRIPTION:
URL:https://www.sarahreesbrennan.com/event/london-comic-con/
LOCATION:ExCel\, Royal Victoria Dock\, London\, E16 1XL\, United Kingdom
ATTACH;FMTTYPE=image/jpeg:https://www.sarahreesbrennan.com/wp-content/uploads/2022/09/srb_default.jpg
END:VEVENT
BEGIN:VEVENT
DTSTART;VALUE=DATE:20241011
DTEND;VALUE=DATE:20241014
DTSTAMP:20260419T132214
CREATED:20241011T161647Z
LAST-MODIFIED:20241011T161647Z
UID:4900-1728604800-1728863999@www.sarahreesbrennan.com
SUMMARY:FANTASYCON
DESCRIPTION:
URL:https://www.sarahreesbrennan.com/event/fantasycon/
LOCATION:The Queen at Chester hotel\, City Road\, Chester\, United Kingdom
ATTACH;FMTTYPE=image/jpeg:https://www.sarahreesbrennan.com/wp-content/uploads/2022/09/srb_default.jpg
END:VEVENT
BEGIN:VEVENT
DTSTART;TZID=Europe/Dublin:20241005T080000
DTEND;TZID=Europe/Dublin:20241006T170000
DTSTAMP:20260419T132214
CREATED:20241011T160931Z
LAST-MODIFIED:20241011T160931Z
UID:4895-1728115200-1728234000@www.sarahreesbrennan.com
SUMMARY:OCTOCON
DESCRIPTION:
URL:https://www.sarahreesbrennan.com/event/octocon/
LOCATION:gibson’s hotel\, Ireland
ATTACH;FMTTYPE=image/jpeg:https://www.sarahreesbrennan.com/wp-content/uploads/2022/09/srb_default.jpg
END:VEVENT
BEGIN:VEVENT
DTSTART;TZID=Europe/Dublin:20240911T183000
DTEND;TZID=Europe/Dublin:20240911T200000
DTSTAMP:20260419T132214
CREATED:20240827T163227Z
LAST-MODIFIED:20240827T163227Z
UID:4882-1726079400-1726084800@www.sarahreesbrennan.com
SUMMARY:EVENING WITH JENNIFER LYNN BARNES
DESCRIPTION:
URL:https://www.sarahreesbrennan.com/event/evening-with-jennifer-lynn-barnes/
LOCATION:Murder Books\, 2342 Bissonnet St
ATTACH;FMTTYPE=image/jpeg:https://www.sarahreesbrennan.com/wp-content/uploads/2022/09/srb_default.jpg
END:VEVENT
BEGIN:VEVENT
DTSTART;TZID=Europe/Dublin:20240910T190000
DTEND;TZID=Europe/Dublin:20240910T210000
DTSTAMP:20260419T132214
CREATED:20240827T162928Z
LAST-MODIFIED:20240827T162928Z
UID:4879-1725994800-1726002000@www.sarahreesbrennan.com
SUMMARY:EVENING WITH RACHEL GILLIG
DESCRIPTION:
URL:https://www.sarahreesbrennan.com/event/evening-with-rachel-gillig/
LOCATION:Barnes and Noble the Grove\, 189 the Grove Drive
ATTACH;FMTTYPE=image/jpeg:https://www.sarahreesbrennan.com/wp-content/uploads/2022/09/srb_default.jpg
END:VEVENT
BEGIN:VEVENT
DTSTART;TZID=Europe/Dublin:20240908T170000
DTEND;TZID=Europe/Dublin:20240908T190000
DTSTAMP:20260419T132214
CREATED:20240827T162510Z
LAST-MODIFIED:20240827T162510Z
UID:4875-1725814800-1725822000@www.sarahreesbrennan.com
SUMMARY:EVENING WITH LEIGH BARDUGO IN SANTA CRUZ
DESCRIPTION:
URL:https://www.sarahreesbrennan.com/event/evening-with-leigh-bardugo-in-santa-cruz/
LOCATION:Bookshop Santa Cruz\, 1520 Pacific Ave\, Santa Cruz\, CA 95060
ATTACH;FMTTYPE=image/jpeg:https://www.sarahreesbrennan.com/wp-content/uploads/2022/09/srb_default.jpg
END:VEVENT
BEGIN:VEVENT
DTSTART;TZID=Europe/Dublin:20240907T190000
DTEND;TZID=Europe/Dublin:20240907T200000
DTSTAMP:20260419T132214
CREATED:20240827T162006Z
LAST-MODIFIED:20240903T213313Z
UID:4870-1725735600-1725739200@www.sarahreesbrennan.com
SUMMARY:EVENING AT BROOKLINE BOOKSMITH WITH MELISSA CARUSO & KALYANI SAXENA
DESCRIPTION:
URL:https://www.sarahreesbrennan.com/event/evening-at-brookline-booksmith-with-melissa-caruso-kalyani-saxena/
LOCATION:Brookline Booksmith\,\, 279 Harvard Street
ATTACH;FMTTYPE=image/jpeg:https://www.sarahreesbrennan.com/wp-content/uploads/2022/09/srb_default.jpg
END:VEVENT
BEGIN:VEVENT
DTSTART;TZID=Europe/Dublin:20240906T190000
DTEND;TZID=Europe/Dublin:20240906T210000
DTSTAMP:20260419T132214
CREATED:20240731T032647Z
LAST-MODIFIED:20240731T032647Z
UID:4741-1725649200-1725656400@www.sarahreesbrennan.com
SUMMARY:EVENING WITH ALIX HARROW & SARAH REES BRENNAN
DESCRIPTION:
URL:https://www.sarahreesbrennan.com/event/evening-with-alix-harrow-sarah-rees-brennan/
LOCATION:East City Bookshop\, 645 Pennsylvania Avenue Southeast\, DC 20003\, United States
ATTACH;FMTTYPE=image/jpeg:https://www.sarahreesbrennan.com/wp-content/uploads/2022/09/srb_default.jpg
END:VEVENT
BEGIN:VEVENT
DTSTART;TZID=Europe/Dublin:20240815T183000
DTEND;TZID=Europe/Dublin:20240815T200000
DTSTAMP:20260419T132214
CREATED:20240731T032237Z
LAST-MODIFIED:20240731T032237Z
UID:4737-1723746600-1723752000@www.sarahreesbrennan.com
SUMMARY:EVENING WITH TASHA SURI AND SARAH REES BRENNAN
DESCRIPTION:
URL:https://www.sarahreesbrennan.com/event/evening-with-tasha-suri-and-sarah-rees-brennan/
LOCATION:Toppings\, Bath\, York Street\, Bath\, BA1 1NG\, United Kingdom
ATTACH;FMTTYPE=image/jpeg:https://www.sarahreesbrennan.com/wp-content/uploads/2022/09/srb_default.jpg
END:VEVENT
BEGIN:VEVENT
DTSTART;TZID=Europe/Dublin:20240813T183000
DTEND;TZID=Europe/Dublin:20240813T200000
DTSTAMP:20260419T132214
CREATED:20240731T031822Z
LAST-MODIFIED:20240731T031822Z
UID:4730-1723573800-1723579200@www.sarahreesbrennan.com
SUMMARY:DANGEROUS WOMEN - Kylie Lee Baker in conversation with Micaiah Johnson and Sarah Rees Brennan
DESCRIPTION:Kylie Lee Baker in conversation with Micaiah Johnson and Sarah Rees Brennan.
URL:https://www.sarahreesbrennan.com/event/dangerous-women-kylie-lee-baker-in-conversation-with-micaiah-johnson-and-sarah-rees-brennan/
ATTACH;FMTTYPE=image/jpeg:https://www.sarahreesbrennan.com/wp-content/uploads/2022/09/srb_default.jpg
END:VEVENT
BEGIN:VEVENT
DTSTART;TZID=Europe/Dublin:20240808T080000
DTEND;TZID=Europe/Dublin:20240812T170000
DTSTAMP:20260419T132214
CREATED:20240731T030435Z
LAST-MODIFIED:20240731T030435Z
UID:4727-1723104000-1723482000@www.sarahreesbrennan.com
SUMMARY:WORLDCON
DESCRIPTION:
URL:https://www.sarahreesbrennan.com/event/worldcon-2/
LOCATION:Glasgow Science Centre
ATTACH;FMTTYPE=image/jpeg:https://www.sarahreesbrennan.com/wp-content/uploads/2022/09/srb_default.jpg
END:VEVENT
BEGIN:VEVENT
DTSTART;TZID=Europe/Dublin:20240807T190000
DTEND;TZID=Europe/Dublin:20240807T210000
DTSTAMP:20260419T132214
CREATED:20240731T025738Z
LAST-MODIFIED:20240731T025738Z
UID:4720-1723057200-1723064400@www.sarahreesbrennan.com
SUMMARY:Evening with Holly Black and Sarah Rees Brennan
DESCRIPTION:
URL:https://www.sarahreesbrennan.com/event/evening-with-holly-black-and-sarah-rees-brennan/
LOCATION:Waterstones sauciehall street\, 153 Sauciehall Street\, G2 3EW\, United Kingdom
ATTACH;FMTTYPE=image/jpeg:https://www.sarahreesbrennan.com/wp-content/uploads/2022/09/srb_default.jpg
END:VEVENT
BEGIN:VEVENT
DTSTART;TZID=Europe/Dublin:20240731T180000
DTEND;TZID=Europe/Dublin:20240731T200000
DTSTAMP:20260419T132214
CREATED:20240614T170956Z
LAST-MODIFIED:20240614T170956Z
UID:3991-1722448800-1722456000@www.sarahreesbrennan.com
SUMMARY:DUBLIN LAUNCH EVENT
DESCRIPTION:
URL:https://www.sarahreesbrennan.com/event/dublin-launch-event/
LOCATION:Hodges Figgis\, 56 Dawson Street\, Dublin\, D02 XE81\, Ireland
ATTACH;FMTTYPE=image/jpeg:https://www.sarahreesbrennan.com/wp-content/uploads/2022/09/srb_default.jpg
END:VEVENT
BEGIN:VEVENT
DTSTART;VALUE=DATE:20191108
DTEND;VALUE=DATE:20191111
DTSTAMP:20260419T132214
CREATED:20191031T130955Z
LAST-MODIFIED:20191031T130955Z
UID:2578-1573171200-1573430399@www.sarahreesbrennan.com
SUMMARY:GRAND RAPIDS COMIC CON
DESCRIPTION:Sarah Rees Brennan \nFellowship In Imaginary Lands \n1:30 PRESENTATION\, Sunday NOVEMBER 10 \nWriting in the Sabrina universe\, which has had so many different spins on it\, and in the Shadowhunters universe\, and how that is different from making up fantasy lands from scratch. Thinking about the skillset needed for both\, the difference between urban fantasy and the fantasy of other worlds\, and inviting people along for a fantastical journey.
URL:https://www.sarahreesbrennan.com/event/grand-rapids-comic-con/
ATTACH;FMTTYPE=image/jpeg:https://www.sarahreesbrennan.com/wp-content/uploads/2022/09/srb_default.jpg
END:VEVENT
BEGIN:VEVENT
DTSTART;VALUE=DATE:20190815
DTEND;VALUE=DATE:20190816
DTSTAMP:20260419T132214
CREATED:20190730T145334Z
LAST-MODIFIED:20190730T145334Z
UID:2512-1565827200-1565913599@www.sarahreesbrennan.com
SUMMARY:WORLD CON
DESCRIPTION:Reading: Sarah Rees Brennan\nFormat: Reading\n15 Aug 2019\, Thursday 14:30 – 14:50\, ECOCEM Room (CCD) \n  \n\n\n‘You read my mind’: telepathy in SFF romance\nFormat: Panel\n16 Aug 2019\, Friday 10:30 – 11:20\, Odeon 5 (Point Square Dublin) \nWhether it’s the ability to read your partner’s mind or mutual telepathic communication\, telepathy adds the potential for both conflict and closeness in a romantic relationship. In what ways do science fictional and paranormal romance novels use telepathy? What are the potential pitfalls and complications of writing a mind-reading character? \nSarah Rees Brennan\, Chelsea Mueller\, Kevin McLaughlin (Role of the Hero Publishing)\, Donna Maree Hanson (M) \n  \nGreat heroes of children’s literature \n\nFormat: Panel\n16 Aug 2019\, Friday 12:00 – 12:50\, Wicklow Hall 2B (CCD) \nFrom Matilda Wormwood to Aang\, Lyra Belacqua\, and Jim Hawkins – just to name a few – some of our most memorable and significant heroes come from children’s literature. Why do these heroes make such a big impact on us\, no matter our age? What turns these ordinary kids into extraordinary heroes? What do our young protagonists have to teach their adult counterparts about courage\, loyalty\, and the ability to overcome the scariest villains? \nChristine Taylor-Butler (M)\, Holly Black\, Peter Beagle\, Sarah Rees Brennan \n  \nYou have to laugh: humour in YA \n\nFormat: Panel\n16 Aug 2019\, Friday 14:00 – 14:50\, Liffey Room-2 (CCD) \nWhat with all the struggles of growing up\, finding love\, saving the world\, and overthrowing dystopias\, YA literature has a lot of serious business to take care of. But laughter is an outlet too. Is there room for laughter in YA? What kinds of humour do you find in the genre\, how are they used\, and is there a generation gap when it comes to what’s funny anyway? \nGail Carriger (GAIL CARRIGER LLC) (M)\, Prof David Farnell (Fukuoka University)\, Ellen Klages\, Sarah Rees Brennan \n\n\nRiverdale and Sabrina: Small Town Gothic\nFormat: Panel\n16 Aug 2019\, Friday 16:30 – 17:20\, Odeon 5 (Point Square Dublin) \nThe Archie Cinematic Universe? Really?  That’s what we’re starting to get\, and it has a distinctly Gothic tone. We discuss how the two shows blend the familiar and the new to create an American Gothic for 2019. What reference points are they drawing from? What are their most striking innovations? How might this fledgling universe develop? \nSusan Connolly\, Chelsea Mueller (M)\, Sarah Rees Brennan\, Ali Baker (University of East London) \n  \nFairies and Irish folklore in YA \n\nFormat: Panel\n17 Aug 2019\, Saturday 12:00 – 12:50\, Liffey Room-2 (CCD) \nBanshees. Leprechauns. Fairy rings. We all know the Irish myths… don’t we? But do they still have power for modern readers? What do we need to understand about the fae folk? And what importance do these traditions have in modern YA stories? Our panellists will explore the influence of Irish myth\, folklore\, and legend in YA over the years. \nRuth Frances Long (M)\, Susan Connolly\, Sarah Rees Brennan\, Peadar Ó Guilín \n\n\nKaffeeklatsch: Sarah Rees Brennan\nFormat: Kaffeeklatsch\n17 Aug 2019\, Saturday 14:00 – 14:50\, Level 3 Foyer (KK/LB) (CCD) \n\n  \nI’m so\, so excited to be having World Con in Ireland this year\, and for further details about the amazing attending authors and events go to the World Con website!
URL:https://www.sarahreesbrennan.com/event/world-con/
LOCATION:Convention Centre Dublin\, Spencer Dock\, N Wall Quay\, North Wall\, Dublin 1\, D01 T1W6\, Dublin\, D01 T1W6\, Ireland
ATTACH;FMTTYPE=image/jpeg:https://www.sarahreesbrennan.com/wp-content/uploads/2022/09/srb_default.jpg
END:VEVENT
BEGIN:VEVENT
DTSTART;VALUE=DATE:20180819
DTEND;VALUE=DATE:20180820
DTSTAMP:20260419T132214
CREATED:20180817T021938Z
LAST-MODIFIED:20180817T021938Z
UID:2483-1534636800-1534723199@www.sarahreesbrennan.com
SUMMARY:WORLDCON
DESCRIPTION:
URL:https://www.sarahreesbrennan.com/event/worldcon/
LOCATION:San Jose McEnery Convention Center\, 150 W San Carlos St\, San Jose\, 95113\, United States
ATTACH;FMTTYPE=image/jpeg:https://www.sarahreesbrennan.com/wp-content/uploads/2022/09/srb_default.jpg
END:VEVENT
END:VCALENDAR